BEGIN:VCALENDAR
VERSION:2.0
CALSCALE:GREGORIAN
PRODID:adamgibbons/ics
METHOD:PUBLISH
X-PUBLISHED-TTL:PT1H
BEGIN:VEVENT
UID:1443@keepkarlsruheboring.org
SUMMARY:trans*treff
DTSTAMP:20260423T114851Z
DTSTART:20260513T160000Z
DTEND:20260513T200000Z
URL:https://keepkarlsruheboring.org/event/transtreff
GEO:49.0042;8.37001
LOCATION:Queeres Zentrum Karlsruhe - Liebigstraße 10-12     Karlsruhe\, 761
	35
STATUS:CONFIRMED
CATEGORIES:Queer,trans*
END:VEVENT
END:VCALENDAR
